BEGIN:VCALENDAR
VERSION:2.0
PRODID:-//wp-events-plugin.com//7.2.3.1//EN
TZID:America/Chicago
X-WR-TIMEZONE:America/Chicago
BEGIN:VEVENT
UID:432@packwaukeelibrary.org
DTSTART;TZID=America/Chicago;VALUE=DATE:20260401
DTEND;TZID=America/Chicago;VALUE=DATE:20260602
DTSTAMP:20260312T192151Z
URL:https://packwaukeelibrary.org/events/bird-watching-bingo/
SUMMARY:Bird Watching Bingo
DESCRIPTION:Bird Watching Bingo is back!!! And we've revamped our bingo car
 d!\nHow do you play?: Stop in at the library anytime during this event to 
 grab a bingo card. Then\, cross off the squares as you see the birds.\n**B
 irds must be seen\, not just heard!**\nReturn your bingo card to the libra
 ry by June 1st\, 2025 to receive 1 entry into a drawing for EACH bingo you
  get.\nA complete bingo includes five squares across\, up and down\, or di
 agonally.\n**Only one bingo card per person\, but up to 12 bingos can be e
 ntered per card/person.**
CATEGORIES:Library Program
END:VEVENT
BEGIN:VTIMEZONE
TZID:America/Chicago
X-LIC-LOCATION:America/Chicago
BEGIN:DAYLIGHT
DTSTART:20260308T030000
TZOFFSETFROM:-0600
TZOFFSETTO:-0500
TZNAME:CDT
END:DAYLIGHT
END:VTIMEZONE
END:VCALENDAR