BEGIN:VCALENDAR
VERSION:2.0
PRODID:-//wp-events-plugin.com//7.2.3.1//EN
TZID:America/Chicago
X-WR-TIMEZONE:America/Chicago
BEGIN:VEVENT
UID:92@packwaukeelibrary.org
DTSTART;TZID=America/Chicago:20231202T140000
DTEND;TZID=America/Chicago:20231202T150000
DTSTAMP:20231129T195720Z
URL:https://packwaukeelibrary.org/events/book-club-the-all-girl-filling-st
 ations-last-reunion/
SUMMARY:Book Club| The All-Girl Filling Station's Last Reunion
DESCRIPTION:The Monthly Book Club is meeting in December to discuss The All
 -Girl Filling Station's Last Reunion\, by Fannie Flagg.\n \nThe All-Girl 
 Filling Station's Last Reunion is a fun-loving mystery about two families-
  one set in present day America and the other during WWII.\n \nAnyone is 
 welcome to join! If you're interested\, please stop in at the library or g
 ive us a call to request a copy of the book.
CATEGORIES:Book Club
END:VEVENT
BEGIN:VTIMEZONE
TZID:America/Chicago
X-LIC-LOCATION:America/Chicago
BEGIN:STANDARD
DTSTART:20231105T010000
TZOFFSETFROM:-0500
TZOFFSETTO:-0600
TZNAME:CST
END:STANDARD
END:VTIMEZONE
END:VCALENDAR