BEGIN:VCALENDAR
VERSION:2.0
PRODID:-//wp-events-plugin.com//7.2.3.1//EN
TZID:America/Chicago
X-WR-TIMEZONE:America/Chicago
BEGIN:VEVENT
UID:232@packwaukeelibrary.org
DTSTART;TZID=America/Chicago:20250111T100000
DTEND;TZID=America/Chicago:20250111T110000
DTSTAMP:20241120T194619Z
URL:https://packwaukeelibrary.org/events/winter-seed-sowing-class-2/
SUMMARY:Winter Seed Sowing Class
DESCRIPTION:Join us to learn about this easy way to start strong\, healthy 
 seedlings outside right now in the winter! Winter sowing is less work and 
 less expensive than traditional methods of starting seeds indoors. It's gr
 eat for growing native plants with seeds that require exposure to cold tem
 peratures to germinate.\nSeeds\, soil\, containers\, and directions will b
 e provided\, and you will go home with your own mini seed-starting greenho
 use.\n \nThis is a great hands-on activity for both kids and adults.\n \
 n*** Space is limited! ***\nPlease register in advance by stopping in at t
 he library or calling us at 608-589-5202
CATEGORIES:Library Program
END:VEVENT
BEGIN:VTIMEZONE
TZID:America/Chicago
X-LIC-LOCATION:America/Chicago
BEGIN:STANDARD
DTSTART:20241103T010000
TZOFFSETFROM:-0500
TZOFFSETTO:-0600
TZNAME:CST
END:STANDARD
END:VTIMEZONE
END:VCALENDAR